BEGIN:VCALENDAR
VERSION:2.0
PRODID:-//Bridge Road Brewers - ECPv4.9.9//NONSGML v1.0//EN
CALSCALE:GREGORIAN
METHOD:PUBLISH
X-WR-CALNAME:Bridge Road Brewers
X-ORIGINAL-URL:https://bridgeroadbrewers.com.au
X-WR-CALDESC:Events for Bridge Road Brewers
BEGIN:VTIMEZONE
TZID:UTC
BEGIN:STANDARD
TZOFFSETFROM:+0000
TZOFFSETTO:+0000
TZNAME:UTC
DTSTART:20200101T000000
END:STANDARD
END:VTIMEZONE
BEGIN:VEVENT
DTSTART;VALUE=DATE:20200328
DTEND;VALUE=DATE:20200330
DTSTAMP:20200301T003013
CREATED:20180116T050811Z
LAST-MODIFIED:20191202T053541Z
UID:18045-1585353600-1585526399@bridgeroadbrewers.com.au
SUMMARY:High Country Hops 2020
DESCRIPTION:\n\nJoin Bridge Road Brewers in picturesque Beechworth\, for the 6th incarnation of High Country Hops\, as we celebrate our obsession with everyone’s favourite beer ingredient\, the humble hop. \nThis is a once year opportunity to taste the freshest beers in the country\, straight form the source! \nThe 8 brewers of the high country brewery trail (and some extra special guests from further afield) will be pouring their wares\, with a spotlight on beers made using freshly harvested hops from nearby Rostrevor hop gardens (Australia’s largest hop farm). \nThis isn’t strictly for the beer fanatic – High Country Hops showcases the very best of what is a beautiful part of our country – With a selection of north east Victoria’s finest winemakers and distillers\, carefully curated food offerings\, free kids activities and an eclectic\, suitably festive musical soundtrack\, there truly is something for everyone. \nEntry to the festival grounds is free – A limited $20 tasting pass gives you 5 tasting tokens and your very own High Country Hops festival glass. \nTASTING PASS\nPristine air\, fresh harvest beers\, fine fare and a rollicking good time – A weekend at High Country Hops needs to be a lock on your annual calendar. \n\n\n
URL:https://bridgeroadbrewers.com.au/event/high-country-hops-2020/
LOCATION:Bridge Road Brewers\, Old Coach House- Ford St \, Beechworth\, Vic \, 3747\, Australia
ATTACH;FMTTYPE=image/png:https://bridgeroadbrewers.com.au/wp-content/uploads/2018/01/HCH-slide.png
ORGANIZER;CN="Bridge%20Road%20Brewers":MAILTO:bookings@bridgeroadbrewers.com.au
END:VEVENT
END:VCALENDAR